BEGIN:VCALENDAR
VERSION:2.0
PRODID:-//Casa Publica - ECPv4.2.6//NONSGML v1.0//EN
CALSCALE:GREGORIAN
METHOD:PUBLISH
X-WR-CALNAME:Casa Publica
X-ORIGINAL-URL:https://casapublica.co.nz
X-WR-CALDESC:Events for Casa Publica
BEGIN:VEVENT
DTSTART;TZID=Pacific/Auckland:20171231T200000
DTEND;TZID=Pacific/Auckland:20180101T020000
DTSTAMP:20180123T010419
CREATED:20171229T015125
LAST-MODIFIED:20171229T015359
UID:8790-1514750400-1514772000@casapublica.co.nz
SUMMARY:New Years Eve 2017
DESCRIPTION:Come into Casa Publica to see in the new year in style!
URL:https://casapublica.co.nz/event/new-years-eve-2017/
CATEGORIES:Special Events
ATTACH;FMTTYPE=image/jpeg:https://casapublica.co.nz/wp-content/uploads/2017/12/new-year-eve-2017.jpg
END:VEVENT
END:VCALENDAR